BEGIN:VCALENDAR
VERSION:2.0
PRODID:-//IVIRMA Alumni - ECPv6.3.1//NONSGML v1.0//EN
CALSCALE:GREGORIAN
METHOD:PUBLISH
X-WR-CALNAME:IVIRMA Alumni
X-ORIGINAL-URL:https://alumni.ivieducationcloud.com
X-WR-CALDESC:Events for IVIRMA Alumni
REFRESH-INTERVAL;VALUE=DURATION:PT1H
X-Robots-Tag:noindex
X-PUBLISHED-TTL:PT1H
BEGIN:VTIMEZONE
TZID:Europe/Madrid
BEGIN:DAYLIGHT
TZOFFSETFROM:+0100
TZOFFSETTO:+0200
TZNAME:CEST
DTSTART:20260329T010000
END:DAYLIGHT
BEGIN:STANDARD
TZOFFSETFROM:+0200
TZOFFSETTO:+0100
TZNAME:CET
DTSTART:20261025T010000
END:STANDARD
END:VTIMEZONE
BEGIN:VEVENT
DTSTART;TZID=Europe/Madrid:20260506T080000
DTEND;TZID=Europe/Madrid:20260509T170000
DTSTAMP:20260420T232025
CREATED:20260417T065823Z
LAST-MODIFIED:20260417T073951Z
UID:1890-1778054400-1778346000@alumni.ivieducationcloud.com
SUMMARY:35 Congreso Nacional de la Sociedad Española de Fertilidad - 10 Congreso Nacional de la enfermería y la reproducción
DESCRIPTION:Un congreso que une ciencia\, innovación y colaboración para seguir avanzando juntos en el futuro de la medicina reproductiva.
URL:https://alumni.ivieducationcloud.com/event/35-congreso-nacional-de-la-sociedad-espanola-de-fertilidad-%c2%b7-10-congreso-nacional-de-enfermeria-de-la-reproduccion/
LOCATION:Sevilla\, Av. Alcalde Luis Uruñuela\, 1\, 41020 Sevilla\, Sevilla\, Spain
CATEGORIES:Other Events
ATTACH;FMTTYPE=image/png:https://alumni.ivieducationcloud.com/wp-content/uploads/2026/04/sevilla.png
ORGANIZER;CN="Sociedad Espa%C3%B1ola de Fertilidad":MAILTO:socespfer@sefertilidad.net
END:VEVENT
END:VCALENDAR