BEGIN:VCALENDAR
VERSION:2.0
PRODID:-//IVIRMA Alumni - ECPv6.3.1//NONSGML v1.0//EN
CALSCALE:GREGORIAN
METHOD:PUBLISH
X-WR-CALNAME:IVIRMA Alumni
X-ORIGINAL-URL:https://alumni.ivieducationcloud.com
X-WR-CALDESC:Events for IVIRMA Alumni
REFRESH-INTERVAL;VALUE=DURATION:PT1H
X-Robots-Tag:noindex
X-PUBLISHED-TTL:PT1H
BEGIN:VTIMEZONE
TZID:Europe/Madrid
BEGIN:DAYLIGHT
TZOFFSETFROM:+0100
TZOFFSETTO:+0200
TZNAME:CEST
DTSTART:20240331T010000
END:DAYLIGHT
BEGIN:STANDARD
TZOFFSETFROM:+0200
TZOFFSETTO:+0100
TZNAME:CET
DTSTART:20241027T010000
END:STANDARD
END:VTIMEZONE
BEGIN:VEVENT
DTSTART;TZID=Europe/Madrid:20240227T180000
DTEND;TZID=Europe/Madrid:20240227T190000
DTSTAMP:20260423T074041
CREATED:20240115T122250Z
LAST-MODIFIED:20240215T150230Z
UID:395-1709056800-1709060400@alumni.ivieducationcloud.com
SUMMARY:Juan Antonio García Velasco\, MD.\, Ph.D
DESCRIPTION:Why should we move to mNCF all our FETs? A change in the paradigm\nThe relevance of the corpus luteum in FETs has been neglected until recently.  The impact of relaxin on minimizing the incidence of pre-eclampsia has prompted our attention to a change in the paradigm\, and move from a convenient and easy to plan FET under HRT to a similarly easy to plan FET with modified natural cycle\, with similar efficacy. \nMore about Juan Antonio García Velasco \n  \nRegister here to join it:\n		\n				\n				\n				\n					\n			\n						\n						\n							\n									Join the Webinar
URL:https://alumni.ivieducationcloud.com/event/juan-antonio-garcia-velasco-md-ph-d/
CATEGORIES:Meet the experts
ATTACH;FMTTYPE=image/png:https://alumni.ivieducationcloud.com/wp-content/uploads/2024/01/meet-the-experts-juancho-princi.png
LOCATION:
END:VEVENT
END:VCALENDAR