BEGIN:VCALENDAR
VERSION:2.0
PRODID:-//IVIRMA Alumni - ECPv6.3.1//NONSGML v1.0//EN
CALSCALE:GREGORIAN
METHOD:PUBLISH
X-WR-CALNAME:IVIRMA Alumni
X-ORIGINAL-URL:https://alumni.ivieducationcloud.com
X-WR-CALDESC:Events for IVIRMA Alumni
REFRESH-INTERVAL;VALUE=DURATION:PT1H
X-Robots-Tag:noindex
X-PUBLISHED-TTL:PT1H
BEGIN:VTIMEZONE
TZID:Europe/Madrid
BEGIN:DAYLIGHT
TZOFFSETFROM:+0100
TZOFFSETTO:+0200
TZNAME:CEST
DTSTART:20240331T010000
END:DAYLIGHT
BEGIN:STANDARD
TZOFFSETFROM:+0200
TZOFFSETTO:+0100
TZNAME:CET
DTSTART:20241027T010000
END:STANDARD
END:VTIMEZONE
BEGIN:VEVENT
DTSTART;TZID=Europe/Madrid:20240924T180000
DTEND;TZID=Europe/Madrid:20240924T190000
DTSTAMP:20260422T005908
CREATED:20240128T152709Z
LAST-MODIFIED:20240916T091142Z
UID:1394-1727200800-1727204400@alumni.ivieducationcloud.com
SUMMARY:Nuria Pellicer\, MD\, PhD
DESCRIPTION:Reactivation of dormant follicles in patients with POI\nThis presentation focuses on the reactivation of dormant follicles in patients diagnosed with Premature Ovarian Insufficiency (POI). POI\, characterized by early depletion of ovarian follicles and hormone production\, typically leads to infertility and hormonal imbalances. However\, recent advancements suggest the possibility of reactivating dormant follicles in these patients\, offering potential avenues for fertility restoration and hormone regulation. The presentation explores current research\, methodologies\, and potential clinical implications of follicle reactivation in POI management \nMore about Nuria Pellicer \nRegister here to join it:\n		\n				\n				\n				\n					\n			\n						\n						\n							\n									Join the Webinar
URL:https://alumni.ivieducationcloud.com/event/nuria-pellicer-md-phd/
LOCATION:Online Meeting
CATEGORIES:Meet the experts
ATTACH;FMTTYPE=image/png:https://alumni.ivieducationcloud.com/wp-content/uploads/2024/07/Meet-the-experts-nuria-princi.png
END:VEVENT
END:VCALENDAR