BEGIN:VCALENDAR
VERSION:2.0
PRODID:-//IVIRMA Alumni - ECPv6.3.1//NONSGML v1.0//EN
CALSCALE:GREGORIAN
METHOD:PUBLISH
X-ORIGINAL-URL:https://alumni.ivieducationcloud.com
X-WR-CALDESC:Events for IVIRMA Alumni
REFRESH-INTERVAL;VALUE=DURATION:PT1H
X-Robots-Tag:noindex
X-PUBLISHED-TTL:PT1H
BEGIN:VTIMEZONE
TZID:Europe/Madrid
BEGIN:DAYLIGHT
TZOFFSETFROM:+0100
TZOFFSETTO:+0200
TZNAME:CEST
DTSTART:20240331T010000
END:DAYLIGHT
BEGIN:STANDARD
TZOFFSETFROM:+0200
TZOFFSETTO:+0100
TZNAME:CET
DTSTART:20241027T010000
END:STANDARD
END:VTIMEZONE
BEGIN:VEVENT
DTSTART;TZID=Europe/Madrid:20240625T180000
DTEND;TZID=Europe/Madrid:20240625T190000
DTSTAMP:20260422T060025
CREATED:20240117T154254Z
LAST-MODIFIED:20240612T072211Z
UID:566-1719338400-1719342000@alumni.ivieducationcloud.com
SUMMARY:Antonio Capalbo\, Ph.D
DESCRIPTION:Clinical application and research knowledge in PGT\n\nHuman embryos have a high rate of chromosome errors\, such as haploidy\, polyploidy\, and aneuploidy\, which impair their development and reproductive competence. Aneuploidies can be meiotic\, affecting all cells uniformly\, or mitotic\, occurring in some cells and causing mosaicism. Preimplantation genetic testing (PGT) aims to deselect aneuploid embryos to improve the success rates of transferring euploid embryos. Studies show that embryos with low-level mosaicism have reproductive capabilities similar to euploid embryos. Differentiating between meiotic and mitotic aneuploidies is crucial for accurate PGT diagnosis. Additionally\, enhancing PGT to detect other genetic abnormalities and monogenic disorders is a long-term goal in genetic research. \nMore about Antonio Capalbo \nRegister here to join it:\n		\n				\n				\n				\n					\n			\n						\n						\n							\n									Join the Webinar
URL:https://alumni.ivieducationcloud.com/event/antonio-capalbo/
CATEGORIES:Meet the experts
ATTACH;FMTTYPE=image/png:https://alumni.ivieducationcloud.com/wp-content/uploads/2024/01/antonio-princi-1.png
LOCATION:https://alumni.ivieducationcloud.com/event/antonio-capalbo/
END:VEVENT
END:VCALENDAR